BEGIN:VCALENDAR
VERSION:2.0
PRODID:-//Root and Reason - ECPv6.15.20//NONSGML v1.0//EN
CALSCALE:GREGORIAN
METHOD:PUBLISH
X-ORIGINAL-URL:https://rootandreason.org.uk
X-WR-CALDESC:Events for Root and Reason
REFRESH-INTERVAL;VALUE=DURATION:PT1H
X-Robots-Tag:noindex
X-PUBLISHED-TTL:PT1H
BEGIN:VTIMEZONE
TZID:Europe/London
BEGIN:DAYLIGHT
TZOFFSETFROM:+0000
TZOFFSETTO:+0100
TZNAME:BST
DTSTART:20250330T010000
END:DAYLIGHT
BEGIN:STANDARD
TZOFFSETFROM:+0100
TZOFFSETTO:+0000
TZNAME:GMT
DTSTART:20251026T010000
END:STANDARD
BEGIN:DAYLIGHT
TZOFFSETFROM:+0000
TZOFFSETTO:+0100
TZNAME:BST
DTSTART:20260329T010000
END:DAYLIGHT
BEGIN:STANDARD
TZOFFSETFROM:+0100
TZOFFSETTO:+0000
TZNAME:GMT
DTSTART:20261025T010000
END:STANDARD
BEGIN:DAYLIGHT
TZOFFSETFROM:+0000
TZOFFSETTO:+0100
TZNAME:BST
DTSTART:20270328T010000
END:DAYLIGHT
BEGIN:STANDARD
TZOFFSETFROM:+0100
TZOFFSETTO:+0000
TZNAME:GMT
DTSTART:20271031T010000
END:STANDARD
END:VTIMEZONE
BEGIN:VEVENT
DTSTART;TZID=Europe/London:20260506T130000
DTEND;TZID=Europe/London:20260506T150000
DTSTAMP:20260422T112257
CREATED:20260416T205216Z
LAST-MODIFIED:20260421T094315Z
UID:3045-1778072400-1778079600@rootandreason.org.uk
SUMMARY:Proposal development workshop for National Lottery food call
DESCRIPTION:Following our recent networking meeting on the National Lottery food call\, we are excited to help take your ideas to the next level. \n\n\n\nIn collaboration with Eating Better and Farming the Future\, the AFN Network+ invites you to a facilitated workshop designed specifically to help you develop your proposals for the National Lottery Community Action Fund (Food Systems). \n\n\n\nEvent Details\n\n\n\nDate: Wednesday\, 6th May 2026\nTime: 1:00 pm – 2:55 pm\nFocus: Collaborative proposal and partnership development. \n\n\n\nHow to Join\n\n\n\nTo secure your spot\, please complete this application form by 1pm Wednesday 29th April \n\n\n\nApplying one week in advance allows us to: \n\n\n\nFinalize and let you know when you will be speaking.\nPrepopulate and send you the link to edit your project slides. \n\n\n\nCollaborate & Connect\n\n\n\nIn the meantime\, there are two great ways to increase the visibility of your work: \n\n\n\nAdvertise your projects: Add your details to the Farming the Future Google Doc.\nUpdate the networking slides: Get in touch with us directly if you’d like your profile added to the slide set from our previous meeting via contact@agrifood4netzero.net. \n\n\n\nWe look forward to seeing your projects take shape!
URL:https://rootandreason.org.uk/event/proposal-development-workshop-for-national-lottery-food-call/
CATEGORIES:Online event,Workshops
ATTACH;FMTTYPE=image/webp:https://rootandreason.org.uk/wp-content/uploads/2026/04/event-2026-05-06.webp
END:VEVENT
END:VCALENDAR